BEGIN:VCALENDAR
VERSION:2.0
PRODID:-//wp-events-plugin.com//7.2.3.1//EN
TZID:America/New_York
X-WR-TIMEZONE:America/New_York
BEGIN:VEVENT
UID:35@potomacclubministries.org
DTSTART;TZID=America/New_York:20240218T080000
DTEND;TZID=America/New_York:20240218T160000
DTSTAMP:20240218T155249Z
URL:https://potomacclubministries.org/events/potomac-conference-pathfinder
 -leadership-training
SUMMARY:Potomac Conference Pathfinder Leadership Training
DESCRIPTION:\nFebruary 18\, 2024\nPotomac Pathfinder Leadership Training Da
 y\nDirectores de conquistadores\, personal de apoyo e interesados a ser gu
 ía mayor\,\nEl próximo entrenamiento de li derazgo hibrido se llevará a
 cabo el 18 de febrero del 2024.Consulte el horario adjunto y/o consulte el
  sitio web para revisar el horario. El enlace para la registración será 
 compartido muy pronto.\nGracias\nNadine Hosten\nCoordinadora de capacitaci
 ón de la conferencia de Potomac\n\n**************************************
 **************\nPathfinder Directors\, support staff\, and those intereste
 d in being a master guide\, The next hybrid leadership training will be he
 ld on February 18\, 2024.\nPlease see the attached schedule and check the 
 website to review the schedule.\nRegistration link to be posted shortly\nN
 adine Hosten\nPotomac Conference PF Training Coordinator\nClick this for m
 ore information\, forms\, or an  AMYT program description.\nThanks\nNadin
 e Hosten\n-----------------------------------------------\n\nZOOM MEETING
   - A link will be sent to those who are registered.\n\n DEADLINE TO REG
 ISTER:  February 16.\n\n\n\nREUNIÓN DE ZOOM: se enviará un enlace a los
  inscritos.\n\n2024-2-18 Leadership Training Schedule\n\n&nbsp\;\n\nLoadin
 g…
CATEGORIES:Leadership Training Event
END:VEVENT
BEGIN:VTIMEZONE
TZID:America/New_York
X-LIC-LOCATION:America/New_York
BEGIN:STANDARD
DTSTART:20231105T010000
TZOFFSETFROM:-0400
TZOFFSETTO:-0500
TZNAME:EST
END:STANDARD
END:VTIMEZONE
END:VCALENDAR